BEGIN:VCALENDAR
VERSION:2.0
PRODID:-//Mount Horeb Intercontinental District - ECPv6.13.2//NONSGML v1.0//EN
CALSCALE:GREGORIAN
METHOD:PUBLISH
X-WR-CALNAME:Mount Horeb Intercontinental District
X-ORIGINAL-URL:https://www.mounthorebintercontinentaldistrict.org
X-WR-CALDESC:Events for Mount Horeb Intercontinental District
REFRESH-INTERVAL;VALUE=DURATION:PT1H
X-Robots-Tag:noindex
X-PUBLISHED-TTL:PT1H
BEGIN:VTIMEZONE
TZID:UTC
BEGIN:STANDARD
TZOFFSETFROM:+0000
TZOFFSETTO:+0000
TZNAME:UTC
DTSTART:20250101T000000
END:STANDARD
END:VTIMEZONE
BEGIN:VEVENT
DTSTART;TZID=UTC:20250601T080000
DTEND;TZID=UTC:20300331T170000
DTSTAMP:20260420T093938
CREATED:20240403T054551Z
LAST-MODIFIED:20260201T171251Z
UID:5678-1748764800-1901206800@www.mounthorebintercontinentaldistrict.org
SUMMARY:Choir thanksgiving anniversary
DESCRIPTION:Lent Day 6 – Walking in Wisdom\n\n\n\n\n\n\n\n    \n        \n        LENT DAY 6\n        Walking in Wisdom\n\n        \n            Host Ministry:\n            Grace Heritage Global Mission\n        \n\n        \n            District:\n            Mount Horeb Intercontinental District UK\n        \n\n        \n            Church:\n            Cherubim and Seraphim Movement Church (Ayo ni O)\n        \n\n        \n            Bible Text:\n            James 1:5\n            \n                “If any of you lacks wisdom\, let him ask of God\, who gives to all liberally and without reproach\, and it will be given to him.” – James 1:5\n            \n        \n\n        \n            Prepare Lesson:\n            Walking in Wisdom\n        \n\n        \n            Presiding Minister:\n            Special Ap./Pro. (Amb.) Sunday Mike Adeyemi\n            Presiding Minister (GHGM)\n        \n\n        \n            Venue:\n            6\, Dauda Ismail Street\, via Idowu Fadeyi\, Legacy Road\,\n            Amule Bus Stop\, Ayobo\, Lagos.\n        \n\n        \n            Facebook: Grace Heritage Global Mission\n            Email: prophwtmike2017@gmail.com\n            Phone: +234 705 599 95406
URL:https://www.mounthorebintercontinentaldistrict.org/event/choir-thanksgiving-anniversary/
LOCATION:602\, Woolwich Road\, / Charlton Lane bus stop. Se7 8rh. London. United Kingdom.\, United Kingdom
CATEGORIES:choir
ATTACH;FMTTYPE=image/jpeg:https://www.mounthorebintercontinentaldistrict.org/wp-content/uploads/2024/04/WhatsApp-Image-2025-06-02-at-4.49.39-PM-1.jpeg
ORGANIZER;CN="John Richard":MAILTO:johnrich@gmail.com
END:VEVENT
END:VCALENDAR